BEGIN:VCALENDAR
VERSION:2.0
PRODID:-//wp-events-plugin.com//7.2.2.1//EN
BEGIN:VEVENT
UID:1210@bigdogsbrews.com
DTSTART:20260331T150000Z
DTEND:20260401T030000Z
DTSTAMP:20260224T194616Z
URL:https://www.bigdogsbrews.com/events/2x-points-tuesdays-43/
SUMMARY:2x Points Tuesdays!
DESCRIPTION:Earn 2X points every Tuesday for Food\, Drink and Retail purcha
 ses!\n\nEarn 2X base points every Tuesday for Gaming slot club!
ATTACH;FMTTYPE=image/jpeg:https://www.bigdogsbrews.com/wp-content/uploads/
 2025/12/Photoroom-1.jpg
CATEGORIES:CALENDAR
END:VEVENT
END:VCALENDAR