BEGIN:VCALENDAR
VERSION:2.0
PRODID:-//wp-events-plugin.com//7.2.2.1//EN
BEGIN:VEVENT
UID:919@bigdogsbrews.com
DTSTART:20250824T173000Z
DTEND:20250824T203000Z
DTSTAMP:20250812T162834Z
URL:https://www.bigdogsbrews.com/events/brunch-vibes-6/
SUMMARY:Brunch Vibes! - Steve Raper
DESCRIPTION:Join us today for BRUNCH VIBES live entertainment with Steve Ra
 per! \nCheck out our awesome new brunch menu and all you can drink options
 ! \nBrunch from 10am-2pm and entertainment from 10:30-1:30pm\nbrunchvibes 
 #bigdogsbrunch #brunchentertainment #bigdogsbrews #handcraftedinlasvegas #
 ayoucandrink
ATTACH;FMTTYPE=image/jpeg:https://www.bigdogsbrews.com/wp-content/uploads/
 2025/08/STEVEN-RAPER-PIC.jpg
CATEGORIES:BRUNCH,CALENDAR,ENTERTAINMENT
END:VEVENT
END:VCALENDAR