BEGIN:VCALENDAR
VERSION:2.0
PRODID:-//wp-events-plugin.com//7.2.2.1//EN
BEGIN:VEVENT
UID:1324@bigdogsbrews.com
DTSTART:20260502T173000Z
DTEND:20260502T203000Z
DTSTAMP:20260423T223930Z
URL:https://www.bigdogsbrews.com/events/brunch-vibes-arrow-8/
SUMMARY:Brunch Vibes - Arrow!
DESCRIPTION:Join us today for BRUNCH VIBES live entertainment  \nCheck out
  our awesome new brunch menu and all you can drink options! \nBrunch from 
 10am-2pm and entertainment from 10:30-1:30pm
ATTACH;FMTTYPE=image/jpeg:https://www.bigdogsbrews.com/wp-content/uploads/
 2026/04/13177959_10154232162263023_460293661195230685_n.jpg
CATEGORIES:BRUNCH,CALENDAR,ENTERTAINMENT
END:VEVENT
END:VCALENDAR