BEGIN:VCALENDAR
VERSION:2.0
PRODID:-//wp-events-plugin.com//7.2.2.1//EN
BEGIN:VEVENT
UID:1328@bigdogsbrews.com
DTSTART:20260509T173000Z
DTEND:20260509T203000Z
DTSTAMP:20260423T224234Z
URL:https://www.bigdogsbrews.com/events/brunch-vibes-joey-vitale-10/
SUMMARY:Brunch Vibes - Joey Vitale!
DESCRIPTION:Join us today for BRUNCH VIBES live entertainment  \nCheck out
  our awesome new brunch menu and all you can drink options! \nBrunch from 
 10am-2pm and entertainment from 10:30-1:30pm
ATTACH;FMTTYPE=image/jpeg:https://www.bigdogsbrews.com/wp-content/uploads/
 2026/01/26850867_10155822518535751_4088515316667424890_o.jpg
CATEGORIES:BRUNCH,CALENDAR,ENTERTAINMENT
END:VEVENT
END:VCALENDAR