BEGIN:VCALENDAR
VERSION:2.0
PRODID:-//wp-events-plugin.com//7.2.2.1//EN
BEGIN:VEVENT
UID:1214@bigdogsbrews.com
DTSTART:20260401T000000Z
DTEND:20260401T030000Z
DTSTAMP:20260224T195802Z
URL:https://www.bigdogsbrews.com/events/karaoke-tuesdays-85/
SUMMARY:Karaoke Tuesdays!
DESCRIPTION:\nHappy Tuesday! It's Karaoke Night! \nJoin us at 7pm on the PA
 TIO for Karaoke hosted by DJ Kool Katz!\nPlus! It's 2X Tuesdays! Ask your 
 server/bartender for details! \n
ATTACH;FMTTYPE=image/jpeg:https://www.bigdogsbrews.com/wp-content/uploads/
 2024/12/Karaoke-Free-PNG-Image.png
CATEGORIES:CALENDAR
END:VEVENT
END:VCALENDAR