BEGIN:VCALENDAR
VERSION:2.0
PRODID:-//wp-events-plugin.com//7.2.2.1//EN
BEGIN:VEVENT
UID:1330@bigdogsbrews.com
DTSTART:20260510T230000Z
DTEND:20260511T020000Z
DTSTAMP:20260423T224702Z
URL:https://www.bigdogsbrews.com/events/live-music-with-irving-fierro/
SUMMARY:Live Music with Irving Fierro!
DESCRIPTION:Live music on the Front Porch!  6-9pm\nJoin us tonight for Loca
 l Music!\nSmoke Free\, Family Friendly\, Dog Friendly
ATTACH;FMTTYPE=image/jpeg:https://www.bigdogsbrews.com/wp-content/uploads/
 2026/04/1000109002.jpg
CATEGORIES:CALENDAR,ENTERTAINMENT
END:VEVENT
END:VCALENDAR