BEGIN:VCALENDAR
VERSION:2.0
PRODID:-//wp-events-plugin.com//7.2.3.1//EN
BEGIN:VEVENT
UID:1337@bigdogsbrews.com
DTSTART:20260503T020000Z
DTEND:20260503T050000Z
DTSTAMP:20260424T202402Z
URL:https://www.bigdogsbrews.com/events/live-music-with-jason-juandines-sa
 turday-taproom-tunes/
SUMMARY:Live Music with Jason Juadines- Saturday Taproom Tunes
DESCRIPTION:Saturday Taproom Tunes -  Join us for Live Music Tonight 7-10p
 m 🎼🎤\n\nFood &amp\; Drink Specials During Entertainment Nights!\n\n5
 0% Off Big Dog's Brews in Taproom Only\n\n$2 Off Appetizers
ATTACH;FMTTYPE=image/jpeg:https://www.bigdogsbrews.com/wp-content/uploads/
 2026/04/thumbnail_IMG_0289-2-scaled.jpg
CATEGORIES:CALENDAR,ENTERTAINMENT
END:VEVENT
END:VCALENDAR