BEGIN:VCALENDAR
VERSION:2.0
PRODID:-//wp-events-plugin.com//7.2.2.1//EN
BEGIN:VEVENT
UID:1339@bigdogsbrews.com
DTSTART:20260501T180000Z
DTEND:20260601T050000Z
DTSTAMP:20260423T231430Z
URL:https://www.bigdogsbrews.com/events/monthly-special-chile-rellenos/
SUMMARY:Monthly Special! - Chile Rellenos
DESCRIPTION:Flame roasted premium New Mexico green chiles\, stuffed with Mo
 nterrey Jack cheese and dipped in a seasoned egg batter. Topped with our r
 anchero sauce. Served with rice and beans.  Daily 11am-10pm. Paired perfec
 tly with Big Dog’s Red Hydrant Ale.  $20
ATTACH;FMTTYPE=image/jpeg:https://www.bigdogsbrews.com/wp-content/uploads/
 2026/04/IMG_2095.jpg
CATEGORIES:CALENDAR
END:VEVENT
END:VCALENDAR