BEGIN:VCALENDAR
VERSION:2.0
PRODID:-//wp-events-plugin.com//7.2.2.1//EN
BEGIN:VEVENT
UID:1341@bigdogsbrews.com
DTSTART:20260511T000000Z
DTEND:20260511T050000Z
DTSTAMP:20260423T231838Z
URL:https://www.bigdogsbrews.com/events/old-fashioned-special-tequila-lime
 -shrimp-fettucine-2/
SUMMARY:Old Fashioned Special - Tequila-Lime Shrimp Fettucine
DESCRIPTION:Old Fashioned Sundays! This Month – Tequila-Lime Shrimp Fettu
 cine - Sauteed Tequila-lime marinated jumbo shrimp with peppers and onions
 . Tossed with fettucine and jalapeno cream sauce. Served with garlic bread
 . $24.50/ 5-10 pm
CATEGORIES:CALENDAR
END:VEVENT
END:VCALENDAR