BEGIN:VCALENDAR
VERSION:2.0
PRODID:-//wp-events-plugin.com//7.2.2.1//EN
BEGIN:VEVENT
UID:1338@bigdogsbrews.com
DTSTART:20260501T180000Z
DTEND:20260601T050000Z
DTSTAMP:20260423T231127Z
URL:https://www.bigdogsbrews.com/events/pizza-of-the-month-steak-fajita-pi
 e/
SUMMARY:Pizza of the Month - Steak Fajita Pie
DESCRIPTION:Homemade pizza dough\, Chipotle lime dressing\, grilled Guajill
 o-garlic marinated skirt steak\, sweet peppers\, onions and Oaxaca-Monterr
 ey cheese. Topped with fresh cilantro and drizzled with jalapeno-avocado c
 rema.   $21\n
CATEGORIES:CALENDAR
END:VEVENT
END:VCALENDAR